BEGIN:VCALENDAR
VERSION:2.0
PRODID:-//cpts - ECPv6.15.20//NONSGML v1.0//EN
CALSCALE:GREGORIAN
METHOD:PUBLISH
X-WR-CALNAME:cpts
X-ORIGINAL-URL:https://cpts-strasbourg.fr
X-WR-CALDESC:Évènements pour cpts
REFRESH-INTERVAL;VALUE=DURATION:PT1H
X-Robots-Tag:noindex
X-PUBLISHED-TTL:PT1H
BEGIN:VTIMEZONE
TZID:Europe/Paris
BEGIN:DAYLIGHT
TZOFFSETFROM:+0100
TZOFFSETTO:+0200
TZNAME:CEST
DTSTART:20230326T010000
END:DAYLIGHT
BEGIN:STANDARD
TZOFFSETFROM:+0200
TZOFFSETTO:+0100
TZNAME:CET
DTSTART:20231029T010000
END:STANDARD
BEGIN:DAYLIGHT
TZOFFSETFROM:+0100
TZOFFSETTO:+0200
TZNAME:CEST
DTSTART:20240331T010000
END:DAYLIGHT
BEGIN:STANDARD
TZOFFSETFROM:+0200
TZOFFSETTO:+0100
TZNAME:CET
DTSTART:20241027T010000
END:STANDARD
BEGIN:DAYLIGHT
TZOFFSETFROM:+0100
TZOFFSETTO:+0200
TZNAME:CEST
DTSTART:20250330T010000
END:DAYLIGHT
BEGIN:STANDARD
TZOFFSETFROM:+0200
TZOFFSETTO:+0100
TZNAME:CET
DTSTART:20251026T010000
END:STANDARD
END:VTIMEZONE
BEGIN:VEVENT
DTSTART;TZID=Europe/Paris:20240910T080000
DTEND;TZID=Europe/Paris:20240910T090000
DTSTAMP:20260421T104714
CREATED:20241121T144450Z
LAST-MODIFIED:20241121T144450Z
UID:503-1725955200-1725958800@cpts-strasbourg.fr
SUMMARY:Atelier/petit déjeuner Parceo
DESCRIPTION:🛠️⚕️ La CPTS Strasbourg vous invite à découvrir PARCEO\, l’outil innovant pour améliorer la coordination des soins ! \n📱 Qu’est-ce que PARCEO ?\nC’est un outil numérique simple et efficace qui facilite la coordination entre les professionnels de santé. Grâce à PARCEO\, vous pouvez organiser et suivre les parcours de soins de manière centralisée\, assurant une communication fluide et sécurisée entre tous les acteurs de santé. Aussi\, en 2025\, les professionnels du cercle de soin du patient seront notifiés des entrées et sorties des hospitalisations par les HUS. \n🎥 Découvrez-en plus dans cette vidéo explicative \n📅🥐☕ Atelier d’aide et assistance PARCEO\nPour aller plus loin\, participez à notre prochain atelier PARCEO en petit groupe ! Autour d’un petit déjeuner convivial\, les ambassadrices PARCEO de la CPTS Strasbourg\, vous accompagneront pour simplifier l’usage de l’outil au quotidien. \n📍 Lieu : Salle 203\, Maison Sport Santé de Strasbourg- 10a boulevard de la Victoire \n👉 inscription obligatoire \nNous vous attendons pour échanger et vous accompagner dans l’utilisation de cet outil au quotidien ! 👩‍⚕️👨‍⚕️
URL:https://cpts-strasbourg.fr/evenement/atelier-petit-dejeuner-parceo-5/
LOCATION:Maison Sport Santé de Strasbourg\, 10 a Boulevard de la Victoire\, Strasbourg\, 67000\, France
END:VEVENT
BEGIN:VEVENT
DTSTART;TZID=Europe/Paris:20240912T200000
DTEND;TZID=Europe/Paris:20240912T220000
DTSTAMP:20260421T104714
CREATED:20241121T133207Z
LAST-MODIFIED:20241121T133207Z
UID:453-1726171200-1726178400@cpts-strasbourg.fr
SUMMARY:Soirée de présentation de la CPTS
DESCRIPTION:
URL:https://cpts-strasbourg.fr/evenement/soiree-de-presentation-de-la-cpts/
LOCATION:Maison Sport Santé de Strasbourg\, 10 a Boulevard de la Victoire\, Strasbourg\, 67000\, France
END:VEVENT
BEGIN:VEVENT
DTSTART;TZID=Europe/Paris:20240924T193000
DTEND;TZID=Europe/Paris:20240924T220000
DTSTAMP:20260421T104714
CREATED:20241121T133956Z
LAST-MODIFIED:20241121T133956Z
UID:457-1727206200-1727215200@cpts-strasbourg.fr
SUMMARY:Soirée Formation "Dépistage de la fibrose hépatique et prévention du cancer du foie"
DESCRIPTION:⚕ Soirée soins non-programmés ! ⚕ \nMédecins généralistes et professionnels de santé de Strasbourg ! Vous êtes conviés à la soirée « soins non programmés » de la CPTS Strasbourg.\nCette soirée est une opportunité unique pour les professionnels de santé de s’intégrer à la réflexion sur l’organisation de la prise en charge des soins non-programmés sur le territoire de Strasbourg. 🏥 \nVous aurez également l’occasion de découvrir le Service d’accès aux soins 67 (SAS 67)\, un dispositif essentiel pour faciliter et améliorer l’accès aux soins sur le territoire. 💊 \n📝   Au programme : \n🔹 Place de la CPTS dans les SNP \n🔹Présentation du SAS dans le Bas-Rhin (état d’avancement\, outil utilisé (entracte)\, régulation et effection) \n🔹Présentation de SOS Médecin\, ASUM\, UrgenceMéd \n🔹Quelle arborescence des SNP pour les médecins libéraux ? (Temps d’échange avec les médecins généralistes afin de recueillir leurs attentes et les possibilités de mise en place avec notre fiche action). \nVenez échanger avec vos confrères et partager vos idées ! 🤝 \n🔗Inscrivez-vous dès maintenant : https://framaforms.org/soiree-snp-soins-non-programmes-1724308633
URL:https://cpts-strasbourg.fr/evenement/soiree-formation-depistage-de-la-fibrose-hepatique-et-prevention-du-cancer-du-foie/
LOCATION:Maison Sport Santé de Strasbourg\, 10 a Boulevard de la Victoire\, Strasbourg\, 67000\, France
END:VEVENT
END:VCALENDAR