BEGIN:VCALENDAR
VERSION:2.0
PRODID:-//cpts - ECPv6.15.20//NONSGML v1.0//EN
CALSCALE:GREGORIAN
METHOD:PUBLISH
X-WR-CALNAME:cpts
X-ORIGINAL-URL:https://cpts-strasbourg.fr
X-WR-CALDESC:Évènements pour cpts
REFRESH-INTERVAL;VALUE=DURATION:PT1H
X-Robots-Tag:noindex
X-PUBLISHED-TTL:PT1H
BEGIN:VTIMEZONE
TZID:Europe/Paris
BEGIN:DAYLIGHT
TZOFFSETFROM:+0100
TZOFFSETTO:+0200
TZNAME:CEST
DTSTART:20230326T010000
END:DAYLIGHT
BEGIN:STANDARD
TZOFFSETFROM:+0200
TZOFFSETTO:+0100
TZNAME:CET
DTSTART:20231029T010000
END:STANDARD
BEGIN:DAYLIGHT
TZOFFSETFROM:+0100
TZOFFSETTO:+0200
TZNAME:CEST
DTSTART:20240331T010000
END:DAYLIGHT
BEGIN:STANDARD
TZOFFSETFROM:+0200
TZOFFSETTO:+0100
TZNAME:CET
DTSTART:20241027T010000
END:STANDARD
BEGIN:DAYLIGHT
TZOFFSETFROM:+0100
TZOFFSETTO:+0200
TZNAME:CEST
DTSTART:20250330T010000
END:DAYLIGHT
BEGIN:STANDARD
TZOFFSETFROM:+0200
TZOFFSETTO:+0100
TZNAME:CET
DTSTART:20251026T010000
END:STANDARD
END:VTIMEZONE
BEGIN:VEVENT
DTSTART;TZID=Europe/Paris:20241122T110000
DTEND;TZID=Europe/Paris:20241122T120000
DTSTAMP:20260421T104753
CREATED:20241121T135145Z
LAST-MODIFIED:20241121T141339Z
UID:463-1732273200-1732276800@cpts-strasbourg.fr
SUMMARY:Apéritif Parceo
DESCRIPTION:🥨 La CPTS Strasbourg vous invite à son apéritif autour de l’outil PARCEO 🍹 \nConnaissez-vous Parceo ?\nC’est un outil simple et efficace qui facilite la coordination entre les professionnels de santé ! \nEnvie de découvrir cet outil dans un environnement sympathique et convivial ?\nAlors\, participez à notre prochain atelier PARCEO en petit groupe ! Autour d’un apéritif\, les ambassadrices PARCEO de la CPTS Strasbourg\, vous accompagneront pour simplifier l’usage de l’outil au quotidien. \n👉 Inscription obligatoire : ici \nGrâce à PARCEO\, vous pouvez organiser et suivre les parcours de soins de manière centralisée\, assurant une communication fluide et sécurisée entre tous les acteurs de santé. Aussi\, en 2025\, les professionnels du cercle de soin du patient seront notifiés des entrées et sorties des hospitalisations par les HUS. \n🎥 Découvrez-en plus dans cette vidéo explicative \nNous vous attendons pour échanger et vous accompagner dans l’utilisation de cet outil au quotidien ! 👩‍⚕️👨‍⚕️
URL:https://cpts-strasbourg.fr/evenement/aperitif-parceo/
LOCATION:Maison Sport Santé de Strasbourg\, 10 a Boulevard de la Victoire\, Strasbourg\, 67000\, France
END:VEVENT
END:VCALENDAR