BEGIN:VCALENDAR
VERSION:2.0
PRODID:-//cpts - ECPv6.15.20//NONSGML v1.0//EN
CALSCALE:GREGORIAN
METHOD:PUBLISH
X-WR-CALNAME:cpts
X-ORIGINAL-URL:https://cpts-strasbourg.fr
X-WR-CALDESC:Évènements pour cpts
REFRESH-INTERVAL;VALUE=DURATION:PT1H
X-Robots-Tag:noindex
X-PUBLISHED-TTL:PT1H
BEGIN:VTIMEZONE
TZID:Europe/Paris
BEGIN:DAYLIGHT
TZOFFSETFROM:+0100
TZOFFSETTO:+0200
TZNAME:CEST
DTSTART:20230326T010000
END:DAYLIGHT
BEGIN:STANDARD
TZOFFSETFROM:+0200
TZOFFSETTO:+0100
TZNAME:CET
DTSTART:20231029T010000
END:STANDARD
BEGIN:DAYLIGHT
TZOFFSETFROM:+0100
TZOFFSETTO:+0200
TZNAME:CEST
DTSTART:20240331T010000
END:DAYLIGHT
BEGIN:STANDARD
TZOFFSETFROM:+0200
TZOFFSETTO:+0100
TZNAME:CET
DTSTART:20241027T010000
END:STANDARD
BEGIN:DAYLIGHT
TZOFFSETFROM:+0100
TZOFFSETTO:+0200
TZNAME:CEST
DTSTART:20250330T010000
END:DAYLIGHT
BEGIN:STANDARD
TZOFFSETFROM:+0200
TZOFFSETTO:+0100
TZNAME:CET
DTSTART:20251026T010000
END:STANDARD
END:VTIMEZONE
BEGIN:VEVENT
DTSTART;TZID=Europe/Paris:20241015T130000
DTEND;TZID=Europe/Paris:20241015T140000
DTSTAMP:20260421T103431
CREATED:20241121T141018Z
LAST-MODIFIED:20241121T141018Z
UID:479-1728997200-1729000800@cpts-strasbourg.fr
SUMMARY:Webinaire Omnidoc
DESCRIPTION:💻 Webinaire : Découvrez Omnidoc\, l’outil de téléexpertise médicale ! \nRejoignez-nous pour un webinaire exclusif coorganisé par la CPTS Strasbourg et Omnidoc.\n🔍 Vous souhaitez optimiser la collaboration entre professionnels de santé et valoriser vos expertises ? La téléexpertise permet de sécuriser et de tracer les échanges médicaux tout en valorisant et rémunérant les contributions des deux parties\, avec un délai de réponse maximal de 10 jours. \n📝 Au programme :\n• Accueil des participants par Julien Boehringer\, Président de la CPTS Strasbourg\n• Animation du webinaire par Amandine Zaragoza\, intervenante Omnidoc\n• Présentation des projets accompagnés sur le territoire de la CPTS (HUS)\n• Présentation et démonstration de l’outil Omnidoc\n•Retour d’expérience d’un médecin des HUS\n• Questions/réponses \n📢 Inscrivez-vous dès maintenant pour recevoir le lien de connexion : lien d’inscription \n💡 Ne manquez pas cette occasion de mieux comprendre comment Omnidoc facilite et valorise la collaboration médicale ! Découvrez également à quels professionnels vous pouvez demander une téléexpertise\, de combien est la rémunération et bien plus !
URL:https://cpts-strasbourg.fr/evenement/webinaire-omnidoc/
LOCATION:Visioconférence
END:VEVENT
END:VCALENDAR