BEGIN:VCALENDAR
VERSION:2.0
PRODID:-//cpts - ECPv6.15.20//NONSGML v1.0//EN
CALSCALE:GREGORIAN
METHOD:PUBLISH
X-WR-CALNAME:cpts
X-ORIGINAL-URL:https://cpts-strasbourg.fr
X-WR-CALDESC:Évènements pour cpts
REFRESH-INTERVAL;VALUE=DURATION:PT1H
X-Robots-Tag:noindex
X-PUBLISHED-TTL:PT1H
BEGIN:VTIMEZONE
TZID:Europe/Paris
BEGIN:DAYLIGHT
TZOFFSETFROM:+0100
TZOFFSETTO:+0200
TZNAME:CEST
DTSTART:20230326T010000
END:DAYLIGHT
BEGIN:STANDARD
TZOFFSETFROM:+0200
TZOFFSETTO:+0100
TZNAME:CET
DTSTART:20231029T010000
END:STANDARD
BEGIN:DAYLIGHT
TZOFFSETFROM:+0100
TZOFFSETTO:+0200
TZNAME:CEST
DTSTART:20240331T010000
END:DAYLIGHT
BEGIN:STANDARD
TZOFFSETFROM:+0200
TZOFFSETTO:+0100
TZNAME:CET
DTSTART:20241027T010000
END:STANDARD
BEGIN:DAYLIGHT
TZOFFSETFROM:+0100
TZOFFSETTO:+0200
TZNAME:CEST
DTSTART:20250330T010000
END:DAYLIGHT
BEGIN:STANDARD
TZOFFSETFROM:+0200
TZOFFSETTO:+0100
TZNAME:CET
DTSTART:20251026T010000
END:STANDARD
END:VTIMEZONE
BEGIN:VEVENT
DTSTART;TZID=Europe/Paris:20241014T200000
DTEND;TZID=Europe/Paris:20241014T220000
DTSTAMP:20260421T103451
CREATED:20241121T142336Z
LAST-MODIFIED:20241121T142336Z
UID:490-1728936000-1728943200@cpts-strasbourg.fr
SUMMARY:Soirée Soins non-programmés
DESCRIPTION:Médecins généralistes et professionnels de santé de Strasbourg ! Vous êtes conviés à la soirée « soins non programmés » de la CPTS Strasbourg ! \nCette soirée est une opportunité unique pour les professionnels de santé de s’intégrer à la réflexion sur l’organisation de la prise en charge des soins non-programmés sur le territoire de Strasbourg. 🏥\nVous aurez également l’occasion de découvrir le Service d’accès aux soins 67 (SAS 67)\, un dispositif essentiel pour faciliter et améliorer l’accès aux soins sur le territoire. 💊 \n📝  Au programme :\n🔹 Place de la CPTS dans les SNP\n🔹Présentation du SAS dans le Bas-Rhin (état d’avancement\, outil utilisé (entracte)\, régulation et effection)\n🔹Présentation de SOS Médecin\, ASUM\, UrgenceMéd\n🔹Quelle arborescence des SNP pour les médecins libéraux ? (Temps d’échange avec les médecins généralistes afin de recueillir leurs attentes et les possibilités de mise en place avec notre fiche action). \nVenez échanger avec vos confrères et partager vos idées ! 🤝 \n🍽️ Buffet offert \nNe manquez pas cette occasion de contribuer à l’amélioration des parcours de soins dans votre région tout en profitant d’un moment convivial. 🙌 \n🔗Inscrivez-vous dès maintenant : ici
URL:https://cpts-strasbourg.fr/evenement/soiree-soins-non-programmes/
LOCATION:Maison Sport Santé de Strasbourg\, 10 a Boulevard de la Victoire\, Strasbourg\, 67000\, France
END:VEVENT
END:VCALENDAR